BEGIN:VCALENDAR
VERSION:2.0
PRODID:-//Annette-von-Droste-Hülshoff-Gymnasium - ECPv6.15.20//NONSGML v1.0//EN
CALSCALE:GREGORIAN
METHOD:PUBLISH
X-ORIGINAL-URL:https://avdge.de
X-WR-CALDESC:Veranstaltungen für Annette-von-Droste-Hülshoff-Gymnasium
REFRESH-INTERVAL;VALUE=DURATION:PT1H
X-Robots-Tag:noindex
X-PUBLISHED-TTL:PT1H
BEGIN:VTIMEZONE
TZID:Europe/Berlin
BEGIN:DAYLIGHT
TZOFFSETFROM:+0100
TZOFFSETTO:+0200
TZNAME:CEST
DTSTART:20240331T010000
END:DAYLIGHT
BEGIN:STANDARD
TZOFFSETFROM:+0200
TZOFFSETTO:+0100
TZNAME:CET
DTSTART:20241027T010000
END:STANDARD
BEGIN:DAYLIGHT
TZOFFSETFROM:+0100
TZOFFSETTO:+0200
TZNAME:CEST
DTSTART:20250330T010000
END:DAYLIGHT
BEGIN:STANDARD
TZOFFSETFROM:+0200
TZOFFSETTO:+0100
TZNAME:CET
DTSTART:20251026T010000
END:STANDARD
BEGIN:DAYLIGHT
TZOFFSETFROM:+0100
TZOFFSETTO:+0200
TZNAME:CEST
DTSTART:20260329T010000
END:DAYLIGHT
BEGIN:STANDARD
TZOFFSETFROM:+0200
TZOFFSETTO:+0100
TZNAME:CET
DTSTART:20261025T010000
END:STANDARD
END:VTIMEZONE
BEGIN:VEVENT
DTSTART;VALUE=DATE:20250127
DTEND;VALUE=DATE:20250208
DTSTAMP:20260421T123021
CREATED:20240926T105330Z
LAST-MODIFIED:20240926T105353Z
UID:9841-1737936000-1738972799@avdge.de
SUMMARY:Jahrgang 10: Praktikum
DESCRIPTION:
URL:https://avdge.de/event/jahrgang-10-praktikum/
END:VEVENT
BEGIN:VEVENT
DTSTART;VALUE=DATE:20250206
DTEND;VALUE=DATE:20250207
DTSTAMP:20260421T123021
CREATED:20250112T101006Z
LAST-MODIFIED:20250122T112752Z
UID:10744-1738800000-1738886399@avdge.de
SUMMARY:Lehrerausflug\, unterrichtsfrei nach der 3. Stunde\, Übermittagsbetreuung 11-15 Uhr
DESCRIPTION:
URL:https://avdge.de/event/lehrerausflug-unterrichtsfrei-ab-der-4-stunde/
END:VEVENT
BEGIN:VEVENT
DTSTART;VALUE=DATE:20250207
DTEND;VALUE=DATE:20250208
DTSTAMP:20260421T123021
CREATED:20250112T101259Z
LAST-MODIFIED:20250112T101335Z
UID:10748-1738886400-1738972799@avdge.de
SUMMARY:SchiLF (Lehrerfortbildung)\, unterrichtsfrei; Zeugnisabholung im Sekretariat möglich von 10-12 Uhr
DESCRIPTION:
URL:https://avdge.de/event/schilf-lehrerfortbildung-unterrichtsfrei-zeugnisabholung-im-sekretariat-moeglich-von-10-12-uhr/
END:VEVENT
BEGIN:VEVENT
DTSTART;TZID=Europe/Berlin:20250210T082000
DTEND;TZID=Europe/Berlin:20250210T090500
DTSTAMP:20260421T123021
CREATED:20250112T101750Z
LAST-MODIFIED:20250122T112920Z
UID:10753-1739175600-1739178300@avdge.de
SUMMARY:Zeugnisausgabe in der 1. Stunde
DESCRIPTION:
URL:https://avdge.de/event/zeugnisausgabe-klassenleiterstunde-1-stunde/
END:VEVENT
BEGIN:VEVENT
DTSTART;VALUE=DATE:20250214
DTEND;VALUE=DATE:20250215
DTSTAMP:20260421T123021
CREATED:20250122T113024Z
LAST-MODIFIED:20250122T113024Z
UID:10804-1739491200-1739577599@avdge.de
SUMMARY:SV\, Rosenaktion
DESCRIPTION:
URL:https://avdge.de/event/sv-rosenaktion/
END:VEVENT
BEGIN:VEVENT
DTSTART;TZID=Europe/Berlin:20250214T080000
DTEND;TZID=Europe/Berlin:20250219T170000
DTSTAMP:20260421T123021
CREATED:20250122T113113Z
LAST-MODIFIED:20250122T113113Z
UID:10806-1739520000-1739984400@avdge.de
SUMMARY:Cottbus Fahrt (Theater-AG)
DESCRIPTION:
URL:https://avdge.de/event/cottbus-fahrt-theater-ag/
END:VEVENT
BEGIN:VEVENT
DTSTART;TZID=Europe/Berlin:20250219T190000
DTEND;TZID=Europe/Berlin:20250219T210000
DTSTAMP:20260421T123021
CREATED:20250122T113250Z
LAST-MODIFIED:20250122T113255Z
UID:10810-1739991600-1739998800@avdge.de
SUMMARY:Jg 5\, Elternabend Fahrradtraining
DESCRIPTION:
URL:https://avdge.de/event/jg-5-elternabend-fahrradtraining/
END:VEVENT
BEGIN:VEVENT
DTSTART;VALUE=DATE:20250220
DTEND;VALUE=DATE:20250221
DTSTAMP:20260421T123021
CREATED:20250219T020822Z
LAST-MODIFIED:20250219T020822Z
UID:11038-1740009600-1740095999@avdge.de
SUMMARY:Juniorwahl - Wir lernen wählen
DESCRIPTION:
URL:https://avdge.de/event/juniorwahl-wir-lernen-waehlen/
END:VEVENT
BEGIN:VEVENT
DTSTART;TZID=Europe/Berlin:20250221T121500
DTEND;TZID=Europe/Berlin:20250221T133000
DTSTAMP:20260421T123021
CREATED:20250122T113400Z
LAST-MODIFIED:20250122T113400Z
UID:10812-1740140100-1740144600@avdge.de
SUMMARY:Schülerparlament
DESCRIPTION:
URL:https://avdge.de/event/schuelerparlament/
LOCATION:Kontrapunkt (Schule)
END:VEVENT
BEGIN:VEVENT
DTSTART;VALUE=DATE:20250224
DTEND;VALUE=DATE:20250225
DTSTAMP:20260421T123021
CREATED:20250211T162935Z
LAST-MODIFIED:20250211T162935Z
UID:11002-1740355200-1740441599@avdge.de
SUMMARY:Anmeldung Klasse 4/5
DESCRIPTION:
URL:https://avdge.de/event/anmeldung-klasse-4-5/
END:VEVENT
BEGIN:VEVENT
DTSTART;TZID=Europe/Berlin:20250225T090000
DTEND;TZID=Europe/Berlin:20250225T130000
DTSTAMP:20260421T123021
CREATED:20250211T163027Z
LAST-MODIFIED:20250211T163027Z
UID:11004-1740474000-1740488400@avdge.de
SUMMARY:Anmeldung Klasse 4/5
DESCRIPTION:
URL:https://avdge.de/event/anmeldung-klasse-4-5-2/
END:VEVENT
BEGIN:VEVENT
DTSTART;TZID=Europe/Berlin:20250226T090000
DTEND;TZID=Europe/Berlin:20250226T130000
DTSTAMP:20260421T123021
CREATED:20250211T163100Z
LAST-MODIFIED:20250211T163100Z
UID:11006-1740560400-1740574800@avdge.de
SUMMARY:Anmeldung Klasse 4/5
DESCRIPTION:
URL:https://avdge.de/event/anmeldung-klasse-4-5-3/
END:VEVENT
BEGIN:VEVENT
DTSTART;TZID=Europe/Berlin:20250227T090000
DTEND;TZID=Europe/Berlin:20250227T130000
DTSTAMP:20260421T123021
CREATED:20250211T163136Z
LAST-MODIFIED:20250211T163136Z
UID:11008-1740646800-1740661200@avdge.de
SUMMARY:Anmeldung Klasse 4/5
DESCRIPTION:
URL:https://avdge.de/event/anmeldung-klasse-4-5-4/
END:VEVENT
END:VCALENDAR