BEGIN:VCALENDAR
VERSION:2.0
PRODID:-//Annette-von-Droste-Hülshoff-Gymnasium - ECPv6.15.20//NONSGML v1.0//EN
CALSCALE:GREGORIAN
METHOD:PUBLISH
X-WR-CALNAME:Annette-von-Droste-Hülshoff-Gymnasium
X-ORIGINAL-URL:https://avdge.de
X-WR-CALDESC:Veranstaltungen für Annette-von-Droste-Hülshoff-Gymnasium
REFRESH-INTERVAL;VALUE=DURATION:PT1H
X-Robots-Tag:noindex
X-PUBLISHED-TTL:PT1H
BEGIN:VTIMEZONE
TZID:Europe/Berlin
BEGIN:DAYLIGHT
TZOFFSETFROM:+0100
TZOFFSETTO:+0200
TZNAME:CEST
DTSTART:20220327T010000
END:DAYLIGHT
BEGIN:STANDARD
TZOFFSETFROM:+0200
TZOFFSETTO:+0100
TZNAME:CET
DTSTART:20221030T010000
END:STANDARD
BEGIN:DAYLIGHT
TZOFFSETFROM:+0100
TZOFFSETTO:+0200
TZNAME:CEST
DTSTART:20230326T010000
END:DAYLIGHT
BEGIN:STANDARD
TZOFFSETFROM:+0200
TZOFFSETTO:+0100
TZNAME:CET
DTSTART:20231029T010000
END:STANDARD
BEGIN:DAYLIGHT
TZOFFSETFROM:+0100
TZOFFSETTO:+0200
TZNAME:CEST
DTSTART:20240331T010000
END:DAYLIGHT
BEGIN:STANDARD
TZOFFSETFROM:+0200
TZOFFSETTO:+0100
TZNAME:CET
DTSTART:20241027T010000
END:STANDARD
END:VTIMEZONE
BEGIN:VEVENT
DTSTART;TZID=Europe/Berlin:20230504T095000
DTEND;TZID=Europe/Berlin:20230504T095000
DTSTAMP:20260425T122041
CREATED:20230206T124150Z
LAST-MODIFIED:20230206T124353Z
UID:4423-1683193800-1683193800@avdge.de
SUMMARY:Gesundes Frühstück
DESCRIPTION:
URL:https://avdge.de/event/gesundes-fruehstueck-5/
END:VEVENT
BEGIN:VEVENT
DTSTART;TZID=Europe/Berlin:20230509T180000
DTEND;TZID=Europe/Berlin:20230509T180000
DTSTAMP:20260425T122041
CREATED:20230508T034518Z
LAST-MODIFIED:20230508T034518Z
UID:5281-1683655200-1683655200@avdge.de
SUMMARY:Wahl der 2. Fremdsprache (Latein/Französisch) für Klasse 7
DESCRIPTION:
URL:https://avdge.de/event/wahl-der-2-fremdsprache-latein-franzoesisch-fuer-klasse-7/
LOCATION:Cafeteria
END:VEVENT
BEGIN:VEVENT
DTSTART;TZID=Europe/Berlin:20230511T180000
DTEND;TZID=Europe/Berlin:20230511T180000
DTSTAMP:20260425T122041
CREATED:20230112T140451Z
LAST-MODIFIED:20230112T140451Z
UID:4173-1683828000-1683828000@avdge.de
SUMMARY:I'm so excited: Chorkonzert
DESCRIPTION:
URL:https://avdge.de/event/im-so-excited-chorkonzert/
END:VEVENT
BEGIN:VEVENT
DTSTART;VALUE=DATE:20230519
DTEND;VALUE=DATE:20230520
DTSTAMP:20260425T122041
CREATED:20220913T123819Z
LAST-MODIFIED:20221002T061429Z
UID:2387-1684454400-1684540799@avdge.de
SUMMARY:Abitur (mündlich) unterrichtsfrei (Studientag)
DESCRIPTION:
URL:https://avdge.de/event/abitur-muendlich-unterrichtsfrei-studientag/
END:VEVENT
BEGIN:VEVENT
DTSTART;VALUE=DATE:20230524
DTEND;VALUE=DATE:20230525
DTSTAMP:20260425T122041
CREATED:20230421T120310Z
LAST-MODIFIED:20230421T120310Z
UID:5138-1684886400-1684972799@avdge.de
SUMMARY:Deutsch Zentrale Klausur EF
DESCRIPTION:
URL:https://avdge.de/event/deutsch-zentrale-klausur-ef/
END:VEVENT
BEGIN:VEVENT
DTSTART;TZID=Europe/Berlin:20230525T150000
DTEND;TZID=Europe/Berlin:20230525T173000
DTSTAMP:20260425T122041
CREATED:20220913T123941Z
LAST-MODIFIED:20230509T041545Z
UID:2389-1685026800-1685035800@avdge.de
SUMMARY:Kennenlernnachmittag der 4. Klassen
DESCRIPTION:
URL:https://avdge.de/event/kennenlernnachmittag-der-4-klassen/
END:VEVENT
BEGIN:VEVENT
DTSTART;TZID=Europe/Berlin:20230525T190000
DTEND;TZID=Europe/Berlin:20230525T190000
DTSTAMP:20260425T122041
CREATED:20230213T134736Z
LAST-MODIFIED:20230213T134803Z
UID:4514-1685041200-1685041200@avdge.de
SUMMARY:Schulpflegschaft - Cafeteria
DESCRIPTION:
URL:https://avdge.de/event/schulpfegschaft-cafeteria/
END:VEVENT
BEGIN:VEVENT
DTSTART;VALUE=DATE:20230530
DTEND;VALUE=DATE:20230531
DTSTAMP:20260425T122041
CREATED:20230302T040743Z
LAST-MODIFIED:20230302T040743Z
UID:4728-1685404800-1685491199@avdge.de
SUMMARY:Pfingstferien
DESCRIPTION:
URL:https://avdge.de/event/pfingstferien/
END:VEVENT
BEGIN:VEVENT
DTSTART;TZID=Europe/Berlin:20230531T000000
DTEND;TZID=Europe/Berlin:20230531T000000
DTSTAMP:20260425T122041
CREATED:20230213T135024Z
LAST-MODIFIED:20230213T135040Z
UID:4519-1685491200-1685491200@avdge.de
SUMMARY:EF: Zentrale Prüfung Mathematik
DESCRIPTION:
URL:https://avdge.de/event/ef-zentrale-pruefung-mathematik/
END:VEVENT
BEGIN:VEVENT
DTSTART;TZID=Europe/Berlin:20230531T183000
DTEND;TZID=Europe/Berlin:20230531T203000
DTSTAMP:20260425T122041
CREATED:20230326T131320Z
LAST-MODIFIED:20230326T131320Z
UID:4888-1685557800-1685565000@avdge.de
SUMMARY:Runder Tisch: Umgang mit digitalen Medien
DESCRIPTION:
URL:https://avdge.de/event/runder-tisch-umgang-mit-digitalen-medien/
END:VEVENT
END:VCALENDAR