BEGIN:VCALENDAR
VERSION:2.0
PRODID:-//Annette-von-Droste-Hülshoff-Gymnasium - ECPv6.15.20//NONSGML v1.0//EN
CALSCALE:GREGORIAN
METHOD:PUBLISH
X-ORIGINAL-URL:https://avdge.de
X-WR-CALDESC:Veranstaltungen für Annette-von-Droste-Hülshoff-Gymnasium
REFRESH-INTERVAL;VALUE=DURATION:PT1H
X-Robots-Tag:noindex
X-PUBLISHED-TTL:PT1H
BEGIN:VTIMEZONE
TZID:Europe/Berlin
BEGIN:DAYLIGHT
TZOFFSETFROM:+0100
TZOFFSETTO:+0200
TZNAME:CEST
DTSTART:20240331T010000
END:DAYLIGHT
BEGIN:STANDARD
TZOFFSETFROM:+0200
TZOFFSETTO:+0100
TZNAME:CET
DTSTART:20241027T010000
END:STANDARD
BEGIN:DAYLIGHT
TZOFFSETFROM:+0100
TZOFFSETTO:+0200
TZNAME:CEST
DTSTART:20250330T010000
END:DAYLIGHT
BEGIN:STANDARD
TZOFFSETFROM:+0200
TZOFFSETTO:+0100
TZNAME:CET
DTSTART:20251026T010000
END:STANDARD
BEGIN:DAYLIGHT
TZOFFSETFROM:+0100
TZOFFSETTO:+0200
TZNAME:CEST
DTSTART:20260329T010000
END:DAYLIGHT
BEGIN:STANDARD
TZOFFSETFROM:+0200
TZOFFSETTO:+0100
TZNAME:CET
DTSTART:20261025T010000
END:STANDARD
END:VTIMEZONE
BEGIN:VEVENT
DTSTART;VALUE=DATE:20250403
DTEND;VALUE=DATE:20250404
DTSTAMP:20260423T121558
CREATED:20250122T114856Z
LAST-MODIFIED:20250321T165212Z
UID:10838-1743638400-1743724799@avdge.de
SUMMARY:Elternsprechtag: Verschoben auf Montag\, 5.5!
DESCRIPTION:Liebe Eltern\, \nich bitte um Entschuldigung\, dass wir den Termin des Elternsprechtags aus schulorganisatorischen Gründen auf Montag\,  den 5.5. verschieben mussten. gez. M. Klein\, Schulleiter
URL:https://avdge.de/event/elternsprechtag-unterrichtsfrei-nach-der-5-stunde-3/
END:VEVENT
BEGIN:VEVENT
DTSTART;VALUE=DATE:20250403
DTEND;VALUE=DATE:20250404
DTSTAMP:20260423T121558
CREATED:20250122T114759Z
LAST-MODIFIED:20250122T114804Z
UID:10836-1743638400-1743724799@avdge.de
SUMMARY:Girls' Day/Boys' Day
DESCRIPTION:
URL:https://avdge.de/event/girls-day-boys-day-2/
END:VEVENT
END:VCALENDAR