BEGIN:VCALENDAR
VERSION:2.0
PRODID:-//Annette-von-Droste-Hülshoff-Gymnasium - ECPv6.15.20//NONSGML v1.0//EN
CALSCALE:GREGORIAN
METHOD:PUBLISH
X-WR-CALNAME:Annette-von-Droste-Hülshoff-Gymnasium
X-ORIGINAL-URL:https://avdge.de
X-WR-CALDESC:Veranstaltungen für Annette-von-Droste-Hülshoff-Gymnasium
REFRESH-INTERVAL;VALUE=DURATION:PT1H
X-Robots-Tag:noindex
X-PUBLISHED-TTL:PT1H
BEGIN:VTIMEZONE
TZID:Europe/Berlin
BEGIN:DAYLIGHT
TZOFFSETFROM:+0100
TZOFFSETTO:+0200
TZNAME:CEST
DTSTART:20240331T010000
END:DAYLIGHT
BEGIN:STANDARD
TZOFFSETFROM:+0200
TZOFFSETTO:+0100
TZNAME:CET
DTSTART:20241027T010000
END:STANDARD
BEGIN:DAYLIGHT
TZOFFSETFROM:+0100
TZOFFSETTO:+0200
TZNAME:CEST
DTSTART:20250330T010000
END:DAYLIGHT
BEGIN:STANDARD
TZOFFSETFROM:+0200
TZOFFSETTO:+0100
TZNAME:CET
DTSTART:20251026T010000
END:STANDARD
BEGIN:DAYLIGHT
TZOFFSETFROM:+0100
TZOFFSETTO:+0200
TZNAME:CEST
DTSTART:20260329T010000
END:DAYLIGHT
BEGIN:STANDARD
TZOFFSETFROM:+0200
TZOFFSETTO:+0100
TZNAME:CET
DTSTART:20261025T010000
END:STANDARD
END:VTIMEZONE
BEGIN:VEVENT
DTSTART;VALUE=DATE:20250306
DTEND;VALUE=DATE:20250310
DTSTAMP:20260421T150754
CREATED:20250122T113810Z
LAST-MODIFIED:20250122T113810Z
UID:10818-1741219200-1741564799@avdge.de
SUMMARY:EF: Berlinfahrt
DESCRIPTION:
URL:https://avdge.de/event/ef-berlinfahrt/
END:VEVENT
BEGIN:VEVENT
DTSTART;TZID=Europe/Berlin:20250306T100000
DTEND;TZID=Europe/Berlin:20250306T120000
DTSTAMP:20260421T150754
CREATED:20250122T113607Z
LAST-MODIFIED:20250122T113607Z
UID:10814-1741255200-1741262400@avdge.de
SUMMARY:Jg.8 VERA 8 Deutsch
DESCRIPTION:
URL:https://avdge.de/event/jg-8-vera-8-deutsch/
END:VEVENT
END:VCALENDAR