BEGIN:VCALENDAR
VERSION:2.0
PRODID:-//Annette-von-Droste-Hülshoff-Gymnasium - ECPv6.15.20//NONSGML v1.0//EN
CALSCALE:GREGORIAN
METHOD:PUBLISH
X-ORIGINAL-URL:https://avdge.de
X-WR-CALDESC:Veranstaltungen für Annette-von-Droste-Hülshoff-Gymnasium
REFRESH-INTERVAL;VALUE=DURATION:PT1H
X-Robots-Tag:noindex
X-PUBLISHED-TTL:PT1H
BEGIN:VTIMEZONE
TZID:Europe/Berlin
BEGIN:DAYLIGHT
TZOFFSETFROM:+0100
TZOFFSETTO:+0200
TZNAME:CEST
DTSTART:20220327T010000
END:DAYLIGHT
BEGIN:STANDARD
TZOFFSETFROM:+0200
TZOFFSETTO:+0100
TZNAME:CET
DTSTART:20221030T010000
END:STANDARD
BEGIN:DAYLIGHT
TZOFFSETFROM:+0100
TZOFFSETTO:+0200
TZNAME:CEST
DTSTART:20230326T010000
END:DAYLIGHT
BEGIN:STANDARD
TZOFFSETFROM:+0200
TZOFFSETTO:+0100
TZNAME:CET
DTSTART:20231029T010000
END:STANDARD
BEGIN:DAYLIGHT
TZOFFSETFROM:+0100
TZOFFSETTO:+0200
TZNAME:CEST
DTSTART:20240331T010000
END:DAYLIGHT
BEGIN:STANDARD
TZOFFSETFROM:+0200
TZOFFSETTO:+0100
TZNAME:CET
DTSTART:20241027T010000
END:STANDARD
END:VTIMEZONE
BEGIN:VEVENT
DTSTART;TZID=Europe/Berlin:20230807T081500
DTEND;TZID=Europe/Berlin:20230807T134000
DTSTAMP:20260425T135854
CREATED:20230803T155511Z
LAST-MODIFIED:20230806T134351Z
UID:6065-1691396100-1691415600@avdge.de
SUMMARY:1. Unterrichtstag nach den Ferien (1.-6. Stunde)\, 1.&2. Stunde in der Klasse
DESCRIPTION:
URL:https://avdge.de/event/1-unterrichtstag-nach-den-ferien-1-6-stunde/
END:VEVENT
BEGIN:VEVENT
DTSTART;TZID=Europe/Berlin:20230807T100000
DTEND;TZID=Europe/Berlin:20230807T120000
DTSTAMP:20260425T135854
CREATED:20230731T045832Z
LAST-MODIFIED:20230731T045832Z
UID:6041-1691402400-1691409600@avdge.de
SUMMARY:1. Schultag der Klassen 5 (Aula)
DESCRIPTION:
URL:https://avdge.de/event/1-schultag-der-klassen-5-aula/
LOCATION:Aula
END:VEVENT
END:VCALENDAR