BEGIN:VCALENDAR
VERSION:2.0
PRODID:-//Annette-von-Droste-Hülshoff-Gymnasium - ECPv6.15.20//NONSGML v1.0//EN
CALSCALE:GREGORIAN
METHOD:PUBLISH
X-ORIGINAL-URL:https://avdge.de
X-WR-CALDESC:Veranstaltungen für Annette-von-Droste-Hülshoff-Gymnasium
REFRESH-INTERVAL;VALUE=DURATION:PT1H
X-Robots-Tag:noindex
X-PUBLISHED-TTL:PT1H
BEGIN:VTIMEZONE
TZID:Europe/Berlin
BEGIN:DAYLIGHT
TZOFFSETFROM:+0100
TZOFFSETTO:+0200
TZNAME:CEST
DTSTART:20220327T010000
END:DAYLIGHT
BEGIN:STANDARD
TZOFFSETFROM:+0200
TZOFFSETTO:+0100
TZNAME:CET
DTSTART:20221030T010000
END:STANDARD
BEGIN:DAYLIGHT
TZOFFSETFROM:+0100
TZOFFSETTO:+0200
TZNAME:CEST
DTSTART:20230326T010000
END:DAYLIGHT
BEGIN:STANDARD
TZOFFSETFROM:+0200
TZOFFSETTO:+0100
TZNAME:CET
DTSTART:20231029T010000
END:STANDARD
BEGIN:DAYLIGHT
TZOFFSETFROM:+0100
TZOFFSETTO:+0200
TZNAME:CEST
DTSTART:20240331T010000
END:DAYLIGHT
BEGIN:STANDARD
TZOFFSETFROM:+0200
TZOFFSETTO:+0100
TZNAME:CET
DTSTART:20241027T010000
END:STANDARD
END:VTIMEZONE
BEGIN:VEVENT
DTSTART;VALUE=DATE:20230420
DTEND;VALUE=DATE:20230421
DTSTAMP:20260425T140224
CREATED:20230213T134144Z
LAST-MODIFIED:20230213T134144Z
UID:4511-1681948800-1682035199@avdge.de
SUMMARY:Jahrgangsstufe 6: Museumsausflug Orientalis
DESCRIPTION:
URL:https://avdge.de/event/jahrgangsstufe-6-museumsausflug-orientalis/
END:VEVENT
BEGIN:VEVENT
DTSTART;TZID=Europe/Berlin:20230420T095000
DTEND;TZID=Europe/Berlin:20230420T095000
DTSTAMP:20260425T140224
CREATED:20230206T124654Z
LAST-MODIFIED:20230206T124654Z
UID:4427-1681984200-1681984200@avdge.de
SUMMARY:Gesundes Frühstück
DESCRIPTION:
URL:https://avdge.de/event/gesundes-fruehstueck-7/
END:VEVENT
END:VCALENDAR