BEGIN:VCALENDAR
VERSION:2.0
PRODID:-//Annette-von-Droste-Hülshoff-Gymnasium - ECPv6.15.20//NONSGML v1.0//EN
CALSCALE:GREGORIAN
METHOD:PUBLISH
X-WR-CALNAME:Annette-von-Droste-Hülshoff-Gymnasium
X-ORIGINAL-URL:https://avdge.de
X-WR-CALDESC:Veranstaltungen für Annette-von-Droste-Hülshoff-Gymnasium
REFRESH-INTERVAL;VALUE=DURATION:PT1H
X-Robots-Tag:noindex
X-PUBLISHED-TTL:PT1H
BEGIN:VTIMEZONE
TZID:Europe/Berlin
BEGIN:DAYLIGHT
TZOFFSETFROM:+0100
TZOFFSETTO:+0200
TZNAME:CEST
DTSTART:20210328T010000
END:DAYLIGHT
BEGIN:STANDARD
TZOFFSETFROM:+0200
TZOFFSETTO:+0100
TZNAME:CET
DTSTART:20211031T010000
END:STANDARD
BEGIN:DAYLIGHT
TZOFFSETFROM:+0100
TZOFFSETTO:+0200
TZNAME:CEST
DTSTART:20220327T010000
END:DAYLIGHT
BEGIN:STANDARD
TZOFFSETFROM:+0200
TZOFFSETTO:+0100
TZNAME:CET
DTSTART:20221030T010000
END:STANDARD
BEGIN:DAYLIGHT
TZOFFSETFROM:+0100
TZOFFSETTO:+0200
TZNAME:CEST
DTSTART:20230326T010000
END:DAYLIGHT
BEGIN:STANDARD
TZOFFSETFROM:+0200
TZOFFSETTO:+0100
TZNAME:CET
DTSTART:20231029T010000
END:STANDARD
END:VTIMEZONE
BEGIN:VEVENT
DTSTART;TZID=Europe/Berlin:20221213T095000
DTEND;TZID=Europe/Berlin:20221213T101500
DTSTAMP:20260423T160352
CREATED:20221203T083636Z
LAST-MODIFIED:20221203T083927Z
UID:3696-1670925000-1670926500@avdge.de
SUMMARY:EF: Abgabe der iPad-Verträge bei Herrn Klein
DESCRIPTION:
URL:https://avdge.de/event/ef-abgabe-der-ipad-vertraege-bei-herrn-klein/
END:VEVENT
BEGIN:VEVENT
DTSTART;TZID=Europe/Berlin:20221213T095000
DTEND;TZID=Europe/Berlin:20221213T101500
DTSTAMP:20260423T160352
CREATED:20221203T083751Z
LAST-MODIFIED:20221203T083855Z
UID:3698-1670925000-1670926500@avdge.de
SUMMARY:Q1: Abgabe der iPad-Verträge bei Frau Freistühler (Sekretariat)
DESCRIPTION:
URL:https://avdge.de/event/q1-abgabe-der-ipad-vertraege-bei-frau-freistuehler-sekretariat/
END:VEVENT
END:VCALENDAR