BEGIN:VCALENDAR
VERSION:2.0
PRODID:-//Annette-von-Droste-Hülshoff-Gymnasium - ECPv6.15.20//NONSGML v1.0//EN
CALSCALE:GREGORIAN
METHOD:PUBLISH
X-WR-CALNAME:Annette-von-Droste-Hülshoff-Gymnasium
X-ORIGINAL-URL:https://avdge.de
X-WR-CALDESC:Veranstaltungen für Annette-von-Droste-Hülshoff-Gymnasium
REFRESH-INTERVAL;VALUE=DURATION:PT1H
X-Robots-Tag:noindex
X-PUBLISHED-TTL:PT1H
BEGIN:VTIMEZONE
TZID:Europe/Berlin
BEGIN:DAYLIGHT
TZOFFSETFROM:+0100
TZOFFSETTO:+0200
TZNAME:CEST
DTSTART:20210328T010000
END:DAYLIGHT
BEGIN:STANDARD
TZOFFSETFROM:+0200
TZOFFSETTO:+0100
TZNAME:CET
DTSTART:20211031T010000
END:STANDARD
BEGIN:DAYLIGHT
TZOFFSETFROM:+0100
TZOFFSETTO:+0200
TZNAME:CEST
DTSTART:20220327T010000
END:DAYLIGHT
BEGIN:STANDARD
TZOFFSETFROM:+0200
TZOFFSETTO:+0100
TZNAME:CET
DTSTART:20221030T010000
END:STANDARD
BEGIN:DAYLIGHT
TZOFFSETFROM:+0100
TZOFFSETTO:+0200
TZNAME:CEST
DTSTART:20230326T010000
END:DAYLIGHT
BEGIN:STANDARD
TZOFFSETFROM:+0200
TZOFFSETTO:+0100
TZNAME:CET
DTSTART:20231029T010000
END:STANDARD
END:VTIMEZONE
BEGIN:VEVENT
DTSTART;TZID=Europe/Berlin:20221130T160000
DTEND;TZID=Europe/Berlin:20221130T160000
DTSTAMP:20260423T160340
CREATED:20221024T110126Z
LAST-MODIFIED:20221024T110126Z
UID:2873-1669824000-1669824000@avdge.de
SUMMARY:Pensionärstreffen
DESCRIPTION:
URL:https://avdge.de/event/pensionaerstreffen/
END:VEVENT
BEGIN:VEVENT
DTSTART;TZID=Europe/Berlin:20221130T190000
DTEND;TZID=Europe/Berlin:20221130T203000
DTSTAMP:20260423T160340
CREATED:20221121T130346Z
LAST-MODIFIED:20221121T130346Z
UID:3470-1669834800-1669840200@avdge.de
SUMMARY:Vorbereitungstreffen Adventsbasar 2023\, Ideensammlung
DESCRIPTION:
URL:https://avdge.de/event/vorbereitungstreffen-adventsbasar-2023-ideensammlung/
END:VEVENT
END:VCALENDAR